BEGIN:VCALENDAR
X-LOTUS-CHARSET:UTF-8
VERSION:2.0
PRODID:-//unihamburg/mundry
METHOD:PUBLISH
BEGIN:VTIMEZONE
TZID:Europe/Berlin
X-LIC-LOCATION:Europe/Berlin
BEGIN:DAYLIGHT
TZOFFSETFROM:+0100
TZOFFSETTO:+0200
TZNAME:CEST
DTSTART:19700329T020000
RRULE:FREQ=YEARLY;INTERVAL=1;BYDAY=-1SU;BYMONTH=3
END:DAYLIGHT
BEGIN:STANDARD
TZOFFSETFROM:+0200
TZOFFSETTO:+0100
TZNAME:CET
DTSTART:19701025T030000
RRULE:FREQ=YEARLY;INTERVAL=1;BYDAY=-1SU;BYMONTH=10
END:STANDARD
END:VTIMEZONE
BEGIN:VEVENT
UID:133736
CLASS:PUBLIC
SUMMARY:COLLOQUIUM Yu Fung Wong (University of Hong Kong)
DTSTART;TZID=Europe/Berlin:20260506T140000
DTEND;TZID=Europe/Berlin:20260506T150000
DTSTAMP:20260422T1303Z
DESCRIPTION:Gas heating, cooling and chemistry in the cold interstellar medium : effects of radiation field and cosmic rays\nUnderstanding the thermodynamics and chemistry of cold interstellar gas is crucial to a better understanding of the dynamical evolution of the interstellar medium, star formation and the line emission spectra of galaxies. I give an overview of gas heating and gas cooling processes, and also gas-phase carbon chemistry of the cold interstellar medium.\nThen, I introduce a new self-consistent thermochemical code, which predicts the abundances of chemical species and the emission of observationally significant cooling lines from inputs of pressure, radiation field, metallicity and cosmic-ray ionisation rate. Using the code, I show that cosmic-ray ionisation can boost the grain photoelectric heating rate by lowering the charge of dust grains. I also demonstrate that optical photons can have a significant effect on gas heating and CO line emission in environments similar to the Central Molecular Zone of the Milky Way.\nUnderstanding the thermodynamics and chemistry of cold interstellar gas is crucial to a better understanding of the dynamical evolution of the interstellar medium, star formation and the line emission spectra of galaxies. I give an overview of gas heating and gas cooling processes, and also gas-phase carbon chemistry of the cold interstellar medium.\nThen, I introduce a new self-consistent thermochemical code, which predicts the abundances of chemical species and the emission of observationally significant cooling lines from inputs of pressure, radiation field, metallicity and cosmic-ray ionisation rate. Using the code, I show that cosmic-ray ionisation can boost the grain photoelectric heating rate by lowering the charge of dust grains. I also demonstrate that optical photons can have a significant effect on gas heating and CO line emission in environments similar to the Central Molecular Zone of the Milky Way.\nTalk in presence and via Zoom:\nhttps://uni-hamburg.zoom.us/j/66006535328?pwd=aGkrSjJIYmZjK0VpYlpGL0ZrdHg2UT09\n\n
LOCATION:Hamburg Sternwarte, Gojenbergsweg 112, 21029 Hamburg, Bibliothek
END:VEVENT
END:VCALENDAR
